BEGIN:VCALENDAR
VERSION:2.0
PRODID:-//Nottingham Schools Trust - ECPv4.6.26//NONSGML v1.0//EN
CALSCALE:GREGORIAN
METHOD:PUBLISH
X-WR-CALNAME:Nottingham Schools Trust
X-ORIGINAL-URL:http://www.nottinghamschoolstrust.org.uk
X-WR-CALDESC:Events for Nottingham Schools Trust
BEGIN:VEVENT
DTSTART;VALUE=DATE:20200228
DTEND;VALUE=DATE:20200229
DTSTAMP:20260425T021603
CREATED:20190802T140031Z
LAST-MODIFIED:20190802T140031Z
UID:3153-1582848000-1582934399@www.nottinghamschoolstrust.org.uk
SUMMARY:Mental Health First Aid - 2 day course
DESCRIPTION:This course will run on Friday 28th February and Monday 2nd March.  Both days must be attended. \nMHFA 2-day course flyer 2019-20 \nMHFA 2-day course application form 2019-20 \n  \n
URL:http://www.nottinghamschoolstrust.org.uk/event/mental-health-first-aid-2-day-course-3/
LOCATION:Loxley House
END:VEVENT
BEGIN:VEVENT
DTSTART;TZID=Europe/London:20200228T093000
DTEND;TZID=Europe/London:20200228T153000
DTSTAMP:20260425T021603
CREATED:20190827T131528Z
LAST-MODIFIED:20191128T103839Z
UID:3325-1582882200-1582903800@www.nottinghamschoolstrust.org.uk
SUMMARY:Music Education Hubs East Midlands Conference 2020
DESCRIPTION:Staff from NST schools can book a place for free at this conference\, by visiting the conference web page: https://mehem.org/mehem-conference-2020/mehem-conference-2020.aspx \nImmediately after the conference ends at 3.30pm \, Ian Burton will hold a special extra session for members of the Music Network\, which will include a ‘deep dive’ surgery\, and give you the chance to catch up\, and bring any problems/issues to discuss with the group.   \n  \n
URL:http://www.nottinghamschoolstrust.org.uk/event/music-network-meeting-2/
END:VEVENT
BEGIN:VEVENT
DTSTART;TZID=Europe/London:20200228T133000
DTEND;TZID=Europe/London:20200228T153000
DTSTAMP:20260425T021603
CREATED:20190827T132516Z
LAST-MODIFIED:20200121T155314Z
UID:3340-1582896600-1582903800@www.nottinghamschoolstrust.org.uk
SUMMARY:Assessment Leads Network Meeting
DESCRIPTION:For further details about this meeting or to book a place\, please visit our Eventbrite page here: https://www.eventbrite.com/e/assessment-leads-network-tickets-90622222507 \n
URL:http://www.nottinghamschoolstrust.org.uk/event/assessment-leads-network-meeting-4/
LOCATION:e-Learning Centre
END:VEVENT
END:VCALENDAR