BEGIN:VCALENDAR
VERSION:2.0
PRODID:-//Nottingham Schools Trust - ECPv4.6.26//NONSGML v1.0//EN
CALSCALE:GREGORIAN
METHOD:PUBLISH
X-WR-CALNAME:Nottingham Schools Trust
X-ORIGINAL-URL:http://www.nottinghamschoolstrust.org.uk
X-WR-CALDESC:Events for Nottingham Schools Trust
BEGIN:VEVENT
DTSTART;VALUE=DATE:20200302
DTEND;VALUE=DATE:20200303
DTSTAMP:20260425T021555
CREATED:20190802T140214Z
LAST-MODIFIED:20190802T140214Z
UID:3155-1583107200-1583193599@www.nottinghamschoolstrust.org.uk
SUMMARY:Mental Health First Aid - 2 day course
DESCRIPTION:This course will run on Friday 28th February and Monday 2nd March.  Both days must be attended. \nMHFA 2-day course flyer 2019-20 \nMHFA 2-day course application form 2019-20 \n
URL:http://www.nottinghamschoolstrust.org.uk/event/mental-health-first-aid-2-day-course-4/
LOCATION:Loxley House
END:VEVENT
BEGIN:VEVENT
DTSTART;TZID=Europe/London:20200302T130000
DTEND;TZID=Europe/London:20200302T160000
DTSTAMP:20260425T021555
CREATED:20190827T131758Z
LAST-MODIFIED:20191212T115112Z
UID:3329-1583154000-1583164800@www.nottinghamschoolstrust.org.uk
SUMMARY:PE Network Meeting
DESCRIPTION:The agenda for this meeting is now available: PESSPA Network Agenda – 02-03-2020 \nTo book a place please visit our Eventbrite page: https://www.eventbrite.com/e/pe-school-sport-physical-activity-network-meeting-tickets-85767654363 \n
URL:http://www.nottinghamschoolstrust.org.uk/event/pe-network-meeting-2/
LOCATION:Nottingham Nursery School & Training Centre\, Denman Street West\, Radford\, Nottingham\, NG7 3AB
END:VEVENT
BEGIN:VEVENT
DTSTART;TZID=Europe/London:20200302T133000
DTEND;TZID=Europe/London:20200302T153000
DTSTAMP:20260425T021555
CREATED:20190711T120035Z
LAST-MODIFIED:20190711T120035Z
UID:2871-1583155800-1583163000@www.nottinghamschoolstrust.org.uk
SUMMARY:Transform Year 6 Network - Teacher session 4
DESCRIPTION:See attached flyer for details: \nYear 6 Network flyer 2019-20 \n
URL:http://www.nottinghamschoolstrust.org.uk/event/transform-year-6-network-teacher-session-4/
LOCATION:Transform\, Unit 11\, Castlefield Office Village\, Kirtley Drive\, Notttingham\, NG7 1LD
END:VEVENT
BEGIN:VEVENT
DTSTART;TZID=Europe/London:20200302T133000
DTEND;TZID=Europe/London:20200302T160000
DTSTAMP:20260425T021555
CREATED:20200203T150737Z
LAST-MODIFIED:20200203T150737Z
UID:3961-1583155800-1583164800@www.nottinghamschoolstrust.org.uk
SUMMARY:Headteacher Induction Group Meeting
DESCRIPTION:
URL:http://www.nottinghamschoolstrust.org.uk/event/headteacher-induction-group-meeting-2/
END:VEVENT
END:VCALENDAR