BEGIN:VCALENDAR
VERSION:2.0
PRODID:-//Nottingham Schools Trust - ECPv4.6.26//NONSGML v1.0//EN
CALSCALE:GREGORIAN
METHOD:PUBLISH
X-WR-CALNAME:Nottingham Schools Trust
X-ORIGINAL-URL:http://www.nottinghamschoolstrust.org.uk
X-WR-CALDESC:Events for Nottingham Schools Trust
BEGIN:VEVENT
DTSTART;TZID=Europe/London:20200401T130000
DTEND;TZID=Europe/London:20200401T160000
DTSTAMP:20260425T004047
CREATED:20190708T131019Z
LAST-MODIFIED:20190708T131019Z
UID:2838-1585746000-1585756800@www.nottinghamschoolstrust.org.uk
SUMMARY:KS1 Moderation Workshop
DESCRIPTION:For all city primary schools. \n
URL:http://www.nottinghamschoolstrust.org.uk/event/ks1-moderation-workshop/
LOCATION:DoubleTree Hilton – Nottingham Gateway\, Nuthall Road\, Nottingham\, NG8 6AZ
END:VEVENT
END:VCALENDAR