BEGIN:VCALENDAR
VERSION:2.0
PRODID:-//Nottingham Schools Trust - ECPv4.6.26//NONSGML v1.0//EN
CALSCALE:GREGORIAN
METHOD:PUBLISH
X-WR-CALNAME:Nottingham Schools Trust
X-ORIGINAL-URL:http://www.nottinghamschoolstrust.org.uk
X-WR-CALDESC:Events for Nottingham Schools Trust
BEGIN:VEVENT
DTSTART;TZID=Europe/London:20200512T130000
DTEND;TZID=Europe/London:20200512T140000
DTSTAMP:20260424T233257
CREATED:20200702T085102Z
LAST-MODIFIED:20200702T085102Z
UID:4657-1589288400-1589292000@www.nottinghamschoolstrust.org.uk
SUMMARY:Letters and Sounds Phonics Phase One - for EYFS Teachers and TAs
DESCRIPTION:
URL:http://www.nottinghamschoolstrust.org.uk/event/letters-and-sounds-phonics-phase-one-for-eyfs-teachers-and-tas-2/
END:VEVENT
END:VCALENDAR