BEGIN:VCALENDAR
VERSION:2.0
PRODID:-//Nottingham Schools Trust - ECPv4.6.26//NONSGML v1.0//EN
CALSCALE:GREGORIAN
METHOD:PUBLISH
X-WR-CALNAME:Nottingham Schools Trust
X-ORIGINAL-URL:http://www.nottinghamschoolstrust.org.uk
X-WR-CALDESC:Events for Nottingham Schools Trust
BEGIN:VEVENT
DTSTART;TZID=Europe/London:20200609T091500
DTEND;TZID=Europe/London:20200609T114500
DTSTAMP:20260424T220359
CREATED:20190823T141921Z
LAST-MODIFIED:20190823T141921Z
UID:3250-1591694100-1591703100@www.nottinghamschoolstrust.org.uk
SUMMARY:English Summer Network Meeting
DESCRIPTION:To book your place please visit the NCC Teaching and Learning Team Eventbrite page here: \nhttps://www.eventbrite.co.uk/e/english-summer-network-201920-tickets-62857089246 \n  \n
URL:http://www.nottinghamschoolstrust.org.uk/event/english-summer-network-meeting-2/
LOCATION:DoubleTree Hilton – Nottingham Gateway\, Nuthall Road\, Nottingham\, NG8 6AZ
END:VEVENT
BEGIN:VEVENT
DTSTART;TZID=Europe/London:20200609T091500
DTEND;TZID=Europe/London:20200609T104500
DTSTAMP:20260424T220359
CREATED:20200702T090148Z
LAST-MODIFIED:20200702T090148Z
UID:4676-1591694100-1591699500@www.nottinghamschoolstrust.org.uk
SUMMARY:Letters and Sounds Phonics Phase 1 - for EYFS Teachers and TAs
DESCRIPTION:
URL:http://www.nottinghamschoolstrust.org.uk/event/letters-and-sounds-phonics-phase-1-for-eyfs-teachers-and-tas/
END:VEVENT
BEGIN:VEVENT
DTSTART;TZID=Europe/London:20200609T110000
DTEND;TZID=Europe/London:20200609T123000
DTSTAMP:20260424T220359
CREATED:20200702T090226Z
LAST-MODIFIED:20200702T090226Z
UID:4678-1591700400-1591705800@www.nottinghamschoolstrust.org.uk
SUMMARY:Letters and Sounds Phonics Phase 1 - for EYFS Teachers and TAs
DESCRIPTION:
URL:http://www.nottinghamschoolstrust.org.uk/event/letters-and-sounds-phonics-phase-1-for-eyfs-teachers-and-tas-2/
END:VEVENT
END:VCALENDAR