BEGIN:VCALENDAR
VERSION:2.0
PRODID:-//Nottingham Schools Trust - ECPv4.6.26//NONSGML v1.0//EN
CALSCALE:GREGORIAN
METHOD:PUBLISH
X-WR-CALNAME:Nottingham Schools Trust
X-ORIGINAL-URL:http://www.nottinghamschoolstrust.org.uk
X-WR-CALDESC:Events for Nottingham Schools Trust
BEGIN:VEVENT
DTSTART;TZID=Europe/London:20200706T093000
DTEND;TZID=Europe/London:20200706T113000
DTSTAMP:20260424T191824
CREATED:20200624T143015Z
LAST-MODIFIED:20200702T082852Z
UID:4526-1594027800-1594035000@www.nottinghamschoolstrust.org.uk
SUMMARY:Moving to EYFS in September? Trainign for Teachers moving into EYFS
DESCRIPTION:Please note this training will be delivered over 4 sessions – 6th\, 7th\, 13th & 14th September\, 9.30am to 11.30am on all 4 dates. \nFor more information or to book: https://www.eventbrite.com/e/new-to-eyfs-in-september-training-for-teachers-moving-into-eyfs-tickets-109165880086 \n
URL:http://www.nottinghamschoolstrust.org.uk/event/moving-to-eyfs-in-september-trainign-for-teachers-moving-into-eyfs/
END:VEVENT
END:VCALENDAR