BEGIN:VCALENDAR
VERSION:2.0
PRODID:-//Nottingham Schools Trust - ECPv4.6.26//NONSGML v1.0//EN
CALSCALE:GREGORIAN
METHOD:PUBLISH
X-WR-CALNAME:Nottingham Schools Trust
X-ORIGINAL-URL:http://www.nottinghamschoolstrust.org.uk
X-WR-CALDESC:Events for Nottingham Schools Trust
BEGIN:VEVENT
DTSTART;TZID=Europe/London:20200710T133000
DTEND;TZID=Europe/London:20200710T150000
DTSTAMP:20260424T192540
CREATED:20200624T145550Z
LAST-MODIFIED:20200624T145550Z
UID:4546-1594387800-1594393200@www.nottinghamschoolstrust.org.uk
SUMMARY:Maths Network Meeting
DESCRIPTION:For information/to book: https://www.eventbrite.co.uk/e/virtual-mathematics-july-network-201920-tickets-110601548208 \n
URL:http://www.nottinghamschoolstrust.org.uk/event/maths-network-meeting/
END:VEVENT
END:VCALENDAR