BEGIN:VCALENDAR
VERSION:2.0
PRODID:-//Nottingham Schools Trust - ECPv4.6.26//NONSGML v1.0//EN
CALSCALE:GREGORIAN
METHOD:PUBLISH
X-WR-CALNAME:Nottingham Schools Trust
X-ORIGINAL-URL:http://www.nottinghamschoolstrust.org.uk
X-WR-CALDESC:Events for Nottingham Schools Trust
BEGIN:VEVENT
DTSTART;TZID=Europe/London:20200924T133000
DTEND;TZID=Europe/London:20200924T153000
DTSTAMP:20260424T164721
CREATED:20200714T134106Z
LAST-MODIFIED:20200714T134106Z
UID:4808-1600954200-1600961400@www.nottinghamschoolstrust.org.uk
SUMMARY:DSL Part 2 Training - Session 1
DESCRIPTION:For details/to book: https://www.eventbrite.co.uk/o/safeguarding-in-education-team-16467505238 \n
URL:http://www.nottinghamschoolstrust.org.uk/event/dsl-part-2-training-session-1/
END:VEVENT
BEGIN:VEVENT
DTSTART;TZID=Europe/London:20200924T153000
DTEND;TZID=Europe/London:20200924T170000
DTSTAMP:20260424T164721
CREATED:20200902T080409Z
LAST-MODIFIED:20200902T080409Z
UID:4906-1600961400-1600966800@www.nottinghamschoolstrust.org.uk
SUMMARY:Music Network Meeting
DESCRIPTION:For further details visit our Eventbrite page: https://www.eventbrite.com/e/music-network-meeting-tickets-112961430680 \n
URL:http://www.nottinghamschoolstrust.org.uk/event/music-network-meeting-4/
END:VEVENT
BEGIN:VEVENT
DTSTART;TZID=Europe/London:20200924T154500
DTEND;TZID=Europe/London:20200924T174500
DTSTAMP:20260424T164721
CREATED:20200901T100755Z
LAST-MODIFIED:20200901T100755Z
UID:4855-1600962300-1600969500@www.nottinghamschoolstrust.org.uk
SUMMARY:Letters and Sounds Part 3 - Practice and Apply: ensuring progress for all (phases 2 - 6)
DESCRIPTION:For further details or to book\, visit our Eventbrite page: https://www.eventbrite.com/o/nottingham-schools-trust-19990165449 \n
URL:http://www.nottinghamschoolstrust.org.uk/event/letters-and-sounds-part-3-practice-and-apply-ensuring-progress-for-all-phases-2-6/
END:VEVENT
END:VCALENDAR