BEGIN:VCALENDAR
VERSION:2.0
PRODID:-//Nottingham Schools Trust - ECPv4.6.26//NONSGML v1.0//EN
CALSCALE:GREGORIAN
METHOD:PUBLISH
X-WR-CALNAME:Nottingham Schools Trust
X-ORIGINAL-URL:http://www.nottinghamschoolstrust.org.uk
X-WR-CALDESC:Events for Nottingham Schools Trust
BEGIN:VEVENT
DTSTART;TZID=Europe/London:20201005T093000
DTEND;TZID=Europe/London:20201005T123000
DTSTAMP:20260424T152759
CREATED:20200903T120553Z
LAST-MODIFIED:20200903T120553Z
UID:4968-1601890200-1601901000@www.nottinghamschoolstrust.org.uk
SUMMARY:Youth Mental Health First Aid Awareness Training
DESCRIPTION:See the attached flyer for further details: \n\nYouth MHFA Awareness training flyer – September 2020\n\n
URL:http://www.nottinghamschoolstrust.org.uk/event/youth-mental-health-first-aid-awareness-training-2/
END:VEVENT
BEGIN:VEVENT
DTSTART;TZID=Europe/London:20201005T153000
DTEND;TZID=Europe/London:20201005T163000
DTSTAMP:20260424T152759
CREATED:20200902T080502Z
LAST-MODIFIED:20200902T080656Z
UID:4908-1601911800-1601915400@www.nottinghamschoolstrust.org.uk
SUMMARY:Forest Schools and Outdoor Learning Network
DESCRIPTION:Further details and booking link to follow. \n
URL:http://www.nottinghamschoolstrust.org.uk/event/forest-schools-and-outdoor-learning-network/
END:VEVENT
BEGIN:VEVENT
DTSTART;TZID=Europe/London:20201005T154500
DTEND;TZID=Europe/London:20201005T174500
DTSTAMP:20260424T152759
CREATED:20200901T101115Z
LAST-MODIFIED:20200901T101115Z
UID:4859-1601912700-1601919900@www.nottinghamschoolstrust.org.uk
SUMMARY:Letters and Sounds Part 4: Decodable Readers
DESCRIPTION:For details or to book\, visit our Eventbrite page: https://www.eventbrite.com/o/nottingham-schools-trust-19990165449 \n
URL:http://www.nottinghamschoolstrust.org.uk/event/letters-and-sounds-part-4-decodable-readers/
END:VEVENT
END:VCALENDAR