BEGIN:VCALENDAR
VERSION:2.0
PRODID:-//Nottingham Schools Trust - ECPv4.6.26//NONSGML v1.0//EN
CALSCALE:GREGORIAN
METHOD:PUBLISH
X-WR-CALNAME:Nottingham Schools Trust
X-ORIGINAL-URL:http://www.nottinghamschoolstrust.org.uk
X-WR-CALDESC:Events for Nottingham Schools Trust
BEGIN:VEVENT
DTSTART;TZID=Europe/London:20201009T133000
DTEND;TZID=Europe/London:20201009T153000
DTSTAMP:20260420T162853
CREATED:20200911T144924Z
LAST-MODIFIED:20200911T144924Z
UID:4993-1602250200-1602257400@www.nottinghamschoolstrust.org.uk
SUMMARY:DSL Training: Recording safeguarding concerns effectively at a school level
DESCRIPTION:For more information/to book: https://www.eventbrite.com/e/dsl-training-recording-safeguarding-concerns-effectively-at-a-school-level-tickets-120530691543 \n
URL:http://www.nottinghamschoolstrust.org.uk/event/dsl-training-recording-safeguarding-concerns-effectively-at-a-school-level/
END:VEVENT
END:VCALENDAR