BEGIN:VCALENDAR
VERSION:2.0
PRODID:-//Nottingham Schools Trust - ECPv4.6.26//NONSGML v1.0//EN
CALSCALE:GREGORIAN
METHOD:PUBLISH
X-WR-CALNAME:Nottingham Schools Trust
X-ORIGINAL-URL:http://www.nottinghamschoolstrust.org.uk
X-WR-CALDESC:Events for Nottingham Schools Trust
BEGIN:VEVENT
DTSTART;TZID=Europe/London:20201111T133000
DTEND;TZID=Europe/London:20201111T150000
DTSTAMP:20260422T011822
CREATED:20201002T140315Z
LAST-MODIFIED:20201002T140315Z
UID:5318-1605101400-1605106800@www.nottinghamschoolstrust.org.uk
SUMMARY:Transform Year 6 Network - Session 1
DESCRIPTION:The NST will fund staff to attend this network (we will be invoiced by Transform for your place) \nFor further details or to book: https://www.eventbrite.co.uk/e/year-6-network-4-network-meetings-tickets-121534985413 \n
URL:http://www.nottinghamschoolstrust.org.uk/event/transform-year-6-network-session-1/
END:VEVENT
BEGIN:VEVENT
DTSTART;TZID=Europe/London:20201111T133000
DTEND;TZID=Europe/London:20201111T150000
DTSTAMP:20260422T011822
CREATED:20201022T141713Z
LAST-MODIFIED:20201022T141713Z
UID:5372-1605101400-1605106800@www.nottinghamschoolstrust.org.uk
SUMMARY:Transform Year 6 Network - Session 1
DESCRIPTION:To book in please email Emily.Humphreys@nottinghamschoolstrust.org.uk \n
URL:http://www.nottinghamschoolstrust.org.uk/event/transform-year-6-network-session-1-2/
END:VEVENT
BEGIN:VEVENT
DTSTART;TZID=Europe/London:20201111T153000
DTEND;TZID=Europe/London:20201111T170000
DTSTAMP:20260422T011822
CREATED:20200915T135320Z
LAST-MODIFIED:20201005T095416Z
UID:5032-1605108600-1605114000@www.nottinghamschoolstrust.org.uk
SUMMARY:Inclusion Network Meeting
DESCRIPTION:For further details/to book: https://www.eventbrite.com/e/inclusion-network-meeting-tickets-121168527327 \n
URL:http://www.nottinghamschoolstrust.org.uk/event/inclusion-network-meeting-4/
END:VEVENT
END:VCALENDAR