BEGIN:VCALENDAR
VERSION:2.0
PRODID:-//Nottingham Schools Trust - ECPv4.6.26//NONSGML v1.0//EN
CALSCALE:GREGORIAN
METHOD:PUBLISH
X-WR-CALNAME:Nottingham Schools Trust
X-ORIGINAL-URL:http://www.nottinghamschoolstrust.org.uk
X-WR-CALDESC:Events for Nottingham Schools Trust
BEGIN:VEVENT
DTSTART;TZID=Europe/London:20201117T160000
DTEND;TZID=Europe/London:20201117T180000
DTSTAMP:20260422T100115
CREATED:20200902T081645Z
LAST-MODIFIED:20201022T101728Z
UID:4926-1605628800-1605636000@www.nottinghamschoolstrust.org.uk
SUMMARY:Geography Network Meeting
DESCRIPTION:For further details/to book\, follow this link: https://www.eventbrite.com/e/geography-network-meeting-tickets-124972158089 \n
URL:http://www.nottinghamschoolstrust.org.uk/event/geography-network/
END:VEVENT
END:VCALENDAR