BEGIN:VCALENDAR
VERSION:2.0
PRODID:-//Nottingham Schools Trust - ECPv4.6.26//NONSGML v1.0//EN
CALSCALE:GREGORIAN
METHOD:PUBLISH
X-WR-CALNAME:Nottingham Schools Trust
X-ORIGINAL-URL:http://www.nottinghamschoolstrust.org.uk
X-WR-CALDESC:Events for Nottingham Schools Trust
BEGIN:VEVENT
DTSTART;TZID=Europe/London:20201119T100000
DTEND;TZID=Europe/London:20201119T153000
DTSTAMP:20260422T125152
CREATED:20200901T102226Z
LAST-MODIFIED:20200901T102226Z
UID:4871-1605780000-1605799800@www.nottinghamschoolstrust.org.uk
SUMMARY:Leading Reading in Key Stage 2
DESCRIPTION:For further details or to book\, visit our Eventbrite page: https://www.eventbrite.com/o/nottingham-schools-trust-19990165449 \n
URL:http://www.nottinghamschoolstrust.org.uk/event/leading-reading-in-key-stage-2/
END:VEVENT
BEGIN:VEVENT
DTSTART;TZID=Europe/London:20201119T153000
DTEND;TZID=Europe/London:20201119T170000
DTSTAMP:20260422T125152
CREATED:20200902T081811Z
LAST-MODIFIED:20201022T102114Z
UID:4928-1605799800-1605805200@www.nottinghamschoolstrust.org.uk
SUMMARY:NQT Network Meeting
DESCRIPTION:For further details/to book\, follow this link: https://www.eventbrite.com/e/nqt-network-meeting-tickets-120375364957 \n
URL:http://www.nottinghamschoolstrust.org.uk/event/nqt-network/
END:VEVENT
END:VCALENDAR