BEGIN:VCALENDAR
VERSION:2.0
PRODID:-//Nottingham Schools Trust - ECPv4.6.26//NONSGML v1.0//EN
CALSCALE:GREGORIAN
METHOD:PUBLISH
X-WR-CALNAME:Nottingham Schools Trust
X-ORIGINAL-URL:http://www.nottinghamschoolstrust.org.uk
X-WR-CALDESC:Events for Nottingham Schools Trust
BEGIN:VEVENT
DTSTART;TZID=Europe/London:20201209T100000
DTEND;TZID=Europe/London:20201209T153000
DTSTAMP:20260424T233306
CREATED:20200901T102607Z
LAST-MODIFIED:20200901T102607Z
UID:4875-1607508000-1607527800@www.nottinghamschoolstrust.org.uk
SUMMARY:Developing a sequence of teaching based on a quality text (focus on the reading phase)
DESCRIPTION:For more details or to book\, visit our Eventbrite page: https://www.eventbrite.com/o/nottingham-schools-trust-19990165449 \n
URL:http://www.nottinghamschoolstrust.org.uk/event/developing-a-sequence-of-teaching-based-on-a-quality-text-focus-on-the-reading-phase-2/
END:VEVENT
BEGIN:VEVENT
DTSTART;TZID=Europe/London:20201209T130000
DTEND;TZID=Europe/London:20201209T150000
DTSTAMP:20260424T233306
CREATED:20201120T125445Z
LAST-MODIFIED:20201120T125445Z
UID:5577-1607518800-1607526000@www.nottinghamschoolstrust.org.uk
SUMMARY:Digital Champion Pathway (Teaching and Learning) - Session 1
DESCRIPTION:
URL:http://www.nottinghamschoolstrust.org.uk/event/digital-champion-pathway-teaching-and-learning-session-1/
END:VEVENT
BEGIN:VEVENT
DTSTART;TZID=Europe/London:20201209T133000
DTEND;TZID=Europe/London:20201209T150000
DTSTAMP:20260424T233306
CREATED:20200914T092414Z
LAST-MODIFIED:20200914T092414Z
UID:5021-1607520600-1607526000@www.nottinghamschoolstrust.org.uk
SUMMARY:TA Network Meeting
DESCRIPTION:For more information: https://www.eventbrite.co.uk/e/teaching-assistant-december-network-tickets-115199978236 \n
URL:http://www.nottinghamschoolstrust.org.uk/event/ta-network-meeting-3/
END:VEVENT
END:VCALENDAR