BEGIN:VCALENDAR
VERSION:2.0
PRODID:-//Nottingham Schools Trust - ECPv4.6.26//NONSGML v1.0//EN
CALSCALE:GREGORIAN
METHOD:PUBLISH
X-WR-CALNAME:Nottingham Schools Trust
X-ORIGINAL-URL:http://www.nottinghamschoolstrust.org.uk
X-WR-CALDESC:Events for Nottingham Schools Trust
BEGIN:VEVENT
DTSTART;TZID=Europe/London:20210114T080000
DTEND;TZID=Europe/London:20210114T170000
DTSTAMP:20260422T013836
CREATED:20200902T082218Z
LAST-MODIFIED:20200902T082218Z
UID:4934-1610611200-1610643600@www.nottinghamschoolstrust.org.uk
SUMMARY:PROVISIONAL - DSL Update Training
DESCRIPTION:Timings tbc and booking link to follow. \n
URL:http://www.nottinghamschoolstrust.org.uk/event/provisional-dsl-update-training-2/
END:VEVENT
BEGIN:VEVENT
DTSTART;TZID=Europe/London:20210114T130000
DTEND;TZID=Europe/London:20210114T150000
DTSTAMP:20260422T013836
CREATED:20200911T144318Z
LAST-MODIFIED:20200911T144318Z
UID:4989-1610629200-1610636400@www.nottinghamschoolstrust.org.uk
SUMMARY:DSL Update training
DESCRIPTION:For further details/to book: https://www.eventbrite.com/e/dsl-update-training-tickets-120529762765 \n
URL:http://www.nottinghamschoolstrust.org.uk/event/dsl-update-training-8/
END:VEVENT
END:VCALENDAR