BEGIN:VCALENDAR
VERSION:2.0
PRODID:-//Nottingham Schools Trust - ECPv4.6.26//NONSGML v1.0//EN
CALSCALE:GREGORIAN
METHOD:PUBLISH
X-WR-CALNAME:Nottingham Schools Trust
X-ORIGINAL-URL:http://www.nottinghamschoolstrust.org.uk
X-WR-CALDESC:Events for Nottingham Schools Trust
BEGIN:VEVENT
DTSTART;TZID=Europe/London:20210204T133000
DTEND;TZID=Europe/London:20210204T153000
DTSTAMP:20260421T194204
CREATED:20200914T091008Z
LAST-MODIFIED:20200914T091008Z
UID:5013-1612445400-1612452600@www.nottinghamschoolstrust.org.uk
SUMMARY:English Network
DESCRIPTION:For information: https://www.eventbrite.co.uk/e/english-february-network-tickets-115199314250 \n
URL:http://www.nottinghamschoolstrust.org.uk/event/english-network-3/
END:VEVENT
BEGIN:VEVENT
DTSTART;TZID=Europe/London:20210204T133000
DTEND;TZID=Europe/London:20210204T153000
DTSTAMP:20260421T194204
CREATED:20201022T142715Z
LAST-MODIFIED:20201022T142715Z
UID:5392-1612445400-1612452600@www.nottinghamschoolstrust.org.uk
SUMMARY:Transform FED Programme 'Deliver' Workshop
DESCRIPTION:To book in please email Emily.Humphreys@nottinghamschoolstrust.org.uk \n
URL:http://www.nottinghamschoolstrust.org.uk/event/transform-fed-programme-deliver-workshop/
END:VEVENT
BEGIN:VEVENT
DTSTART;TZID=Europe/London:20210204T160000
DTEND;TZID=Europe/London:20210204T173000
DTSTAMP:20260421T194204
CREATED:20210309T115912Z
LAST-MODIFIED:20210309T115912Z
UID:6300-1612454400-1612459800@www.nottinghamschoolstrust.org.uk
SUMMARY:Early Years Network
DESCRIPTION:Visit our Eventbrite page for further details: https://www.eventbrite.com/o/nottingham-schools-trust-19990165449 \n
URL:http://www.nottinghamschoolstrust.org.uk/event/early-years-network/
END:VEVENT
END:VCALENDAR