BEGIN:VCALENDAR
VERSION:2.0
PRODID:-//Nottingham Schools Trust - ECPv4.6.26//NONSGML v1.0//EN
CALSCALE:GREGORIAN
METHOD:PUBLISH
X-WR-CALNAME:Nottingham Schools Trust
X-ORIGINAL-URL:http://www.nottinghamschoolstrust.org.uk
X-WR-CALDESC:Events for Nottingham Schools Trust
BEGIN:VEVENT
DTSTART;TZID=Europe/London:20210302T080000
DTEND;TZID=Europe/London:20210302T170000
DTSTAMP:20260424T091142
CREATED:20200902T083554Z
LAST-MODIFIED:20200902T083554Z
UID:4950-1614672000-1614704400@www.nottinghamschoolstrust.org.uk
SUMMARY:Voice Nottingham Accelerate Oracy Programme - Day 2
DESCRIPTION:This will be a full-day face to face session.  Timings and venue tbc. \n
URL:http://www.nottinghamschoolstrust.org.uk/event/voice-nottingham-accelerate-oracy-programme-day-2/
END:VEVENT
BEGIN:VEVENT
DTSTART;TZID=Europe/London:20210302T153000
DTEND;TZID=Europe/London:20210302T170000
DTSTAMP:20260424T091142
CREATED:20210309T115451Z
LAST-MODIFIED:20210309T115451Z
UID:6288-1614699000-1614704400@www.nottinghamschoolstrust.org.uk
SUMMARY:MFL Network Meeting
DESCRIPTION:Visit our Eventbrite page for further details: https://www.eventbrite.com/o/nottingham-schools-trust-19990165449 \n
URL:http://www.nottinghamschoolstrust.org.uk/event/mfl-network-meeting-7/
END:VEVENT
BEGIN:VEVENT
DTSTART;TZID=Europe/London:20210302T160000
DTEND;TZID=Europe/London:20210302T173000
DTSTAMP:20260424T091142
CREATED:20210309T115348Z
LAST-MODIFIED:20210309T115348Z
UID:6286-1614700800-1614706200@www.nottinghamschoolstrust.org.uk
SUMMARY:ICT Network Meeting
DESCRIPTION:Visit our Eventbrite page for further details: https://www.eventbrite.com/o/nottingham-schools-trust-19990165449 \n
URL:http://www.nottinghamschoolstrust.org.uk/event/ict-network-meeting-6/
END:VEVENT
END:VCALENDAR