BEGIN:VCALENDAR
VERSION:2.0
PRODID:-//Nottingham Schools Trust - ECPv4.6.26//NONSGML v1.0//EN
CALSCALE:GREGORIAN
METHOD:PUBLISH
X-WR-CALNAME:Nottingham Schools Trust
X-ORIGINAL-URL:http://www.nottinghamschoolstrust.org.uk
X-WR-CALDESC:Events for Nottingham Schools Trust
BEGIN:VEVENT
DTSTART;TZID=Europe/London:20210303T100000
DTEND;TZID=Europe/London:20210303T113000
DTSTAMP:20260424T110211
CREATED:20210309T115307Z
LAST-MODIFIED:20210309T115307Z
UID:6284-1614765600-1614771000@www.nottinghamschoolstrust.org.uk
SUMMARY:School Business Leader Network
DESCRIPTION:Visit our Eventbrite page for further details: https://www.eventbrite.com/o/nottingham-schools-trust-19990165449 \n
URL:http://www.nottinghamschoolstrust.org.uk/event/school-business-leader-network/
END:VEVENT
BEGIN:VEVENT
DTSTART;TZID=Europe/London:20210303T123000
DTEND;TZID=Europe/London:20210303T160000
DTSTAMP:20260424T110211
CREATED:20201022T112057Z
LAST-MODIFIED:20201022T112057Z
UID:5364-1614774600-1614787200@www.nottinghamschoolstrust.org.uk
SUMMARY:Forging Ahead Programme for Senior Leaders - Session 2
DESCRIPTION:For further details/to book\, follow this link: https://www.eventbrite.com/e/forging-ahead-nst-programme-for-senior-leaders-session-2-tickets-125476520651 \n
URL:http://www.nottinghamschoolstrust.org.uk/event/forging-ahead-programme-for-senior-leaders-session-2/
END:VEVENT
BEGIN:VEVENT
DTSTART;TZID=Europe/London:20210303T133000
DTEND;TZID=Europe/London:20210303T150000
DTSTAMP:20260424T110211
CREATED:20201002T140555Z
LAST-MODIFIED:20201002T140555Z
UID:5322-1614778200-1614783600@www.nottinghamschoolstrust.org.uk
SUMMARY:Transform Year 6 Network - session 3
DESCRIPTION:The NST will fund staff to attend this network (we will be invoiced by Transform for your place) \nFor further details or to book: https://www.eventbrite.co.uk/e/year-6-network-4-network-meetings-tickets-121534985413 \n
URL:http://www.nottinghamschoolstrust.org.uk/event/transform-year-6-network-session-3/
END:VEVENT
BEGIN:VEVENT
DTSTART;TZID=Europe/London:20210303T133000
DTEND;TZID=Europe/London:20210303T150000
DTSTAMP:20260424T110211
CREATED:20201022T141859Z
LAST-MODIFIED:20201022T141859Z
UID:5376-1614778200-1614783600@www.nottinghamschoolstrust.org.uk
SUMMARY:Transform Year 6 Network - Session 3
DESCRIPTION:To book in please email Emily.Humphreys@nottinghamschoolstrust.org.uk \n
URL:http://www.nottinghamschoolstrust.org.uk/event/transform-year-6-network-session-3-2/
END:VEVENT
END:VCALENDAR