BEGIN:VCALENDAR
VERSION:2.0
PRODID:-//Nottingham Schools Trust - ECPv4.6.26//NONSGML v1.0//EN
CALSCALE:GREGORIAN
METHOD:PUBLISH
X-WR-CALNAME:Nottingham Schools Trust
X-ORIGINAL-URL:http://www.nottinghamschoolstrust.org.uk
X-WR-CALDESC:Events for Nottingham Schools Trust
BEGIN:VEVENT
DTSTART;TZID=Europe/London:20210325T093000
DTEND;TZID=Europe/London:20210325T120000
DTSTAMP:20260422T153035
CREATED:20210309T114935Z
LAST-MODIFIED:20210309T114935Z
UID:6276-1616664600-1616673600@www.nottinghamschoolstrust.org.uk
SUMMARY:EYFS Reforms Briefing Session
DESCRIPTION:Visit our Eventbrite page for further details: https://www.eventbrite.com/o/nottingham-schools-trust-19990165449 \n
URL:http://www.nottinghamschoolstrust.org.uk/event/eyfs-reforms-briefing-session-2/
END:VEVENT
BEGIN:VEVENT
DTSTART;TZID=Europe/London:20210325T160000
DTEND;TZID=Europe/London:20210325T173000
DTSTAMP:20260422T153035
CREATED:20210309T114538Z
LAST-MODIFIED:20210309T114538Z
UID:6270-1616688000-1616693400@www.nottinghamschoolstrust.org.uk
SUMMARY:Forest Schools and Outdoor Learning Network
DESCRIPTION:Visit our Eventbrite page for further details: https://www.eventbrite.com/o/nottingham-schools-trust-19990165449 \n
URL:http://www.nottinghamschoolstrust.org.uk/event/forest-schools-and-outdoor-learning-network-2/
END:VEVENT
END:VCALENDAR