BEGIN:VCALENDAR
VERSION:2.0
PRODID:-//Nottingham Schools Trust - ECPv4.6.26//NONSGML v1.0//EN
CALSCALE:GREGORIAN
METHOD:PUBLISH
X-WR-CALNAME:Nottingham Schools Trust
X-ORIGINAL-URL:http://www.nottinghamschoolstrust.org.uk
X-WR-CALDESC:Events for Nottingham Schools Trust
BEGIN:VEVENT
DTSTART;TZID=Europe/London:20210331T153000
DTEND;TZID=Europe/London:20210331T170000
DTSTAMP:20260420T073501
CREATED:20210309T114634Z
LAST-MODIFIED:20210309T114702Z
UID:6272-1617204600-1617210000@www.nottinghamschoolstrust.org.uk
SUMMARY:SENCO Surgery
DESCRIPTION:Visit our Eventbrite page for further details: https://www.eventbrite.com/o/nottingham-schools-trust-19990165449 \n
URL:http://www.nottinghamschoolstrust.org.uk/event/senco-surgery/
END:VEVENT
END:VCALENDAR