BEGIN:VCALENDAR
VERSION:2.0
PRODID:-//Nottingham Schools Trust - ECPv4.6.26//NONSGML v1.0//EN
CALSCALE:GREGORIAN
METHOD:PUBLISH
X-WR-CALNAME:Nottingham Schools Trust
X-ORIGINAL-URL:http://www.nottinghamschoolstrust.org.uk
X-WR-CALDESC:Events for Nottingham Schools Trust
BEGIN:VEVENT
DTSTART;TZID=Europe/London:20210413T093000
DTEND;TZID=Europe/London:20210413T113000
DTSTAMP:20260419T200814
CREATED:20201123T120344Z
LAST-MODIFIED:20201123T120344Z
UID:5604-1618306200-1618313400@www.nottinghamschoolstrust.org.uk
SUMMARY:FED (Future\, Engage\, Deliver) for Subject Leaders - Session 3
DESCRIPTION:FED (Future\, Engage\, Deliver) for Subject Leaders: 2 participants maximum covered by your school’s NST membership. \nDates and further details about this network are available on the Transform Eventbrite page here: https://www.eventbrite.co.uk/e/fed-for-subject-leaders-tickets-128503967827 \nPlease remember\, don’t book directly via the Transform Eventbrite page\, but instead send your school’s details to Emily.Humphreys@nottinghamschoolstrust.org.uk\, so that we can block-book places for NST schools and pay the attendance fee for you. \n
URL:http://www.nottinghamschoolstrust.org.uk/event/fed-future-engage-deliver-for-subject-leaders-session-3/
END:VEVENT
END:VCALENDAR