BEGIN:VCALENDAR
VERSION:2.0
PRODID:-//Nottingham Schools Trust - ECPv4.6.26//NONSGML v1.0//EN
CALSCALE:GREGORIAN
METHOD:PUBLISH
X-WR-CALNAME:Nottingham Schools Trust
X-ORIGINAL-URL:http://www.nottinghamschoolstrust.org.uk
X-WR-CALDESC:Events for Nottingham Schools Trust
BEGIN:VEVENT
DTSTART;TZID=Europe/London:20210525T153000
DTEND;TZID=Europe/London:20210525T170000
DTSTAMP:20260420T061043
CREATED:20210504T090618Z
LAST-MODIFIED:20210504T090618Z
UID:6447-1621956600-1621962000@www.nottinghamschoolstrust.org.uk
SUMMARY:Music Network Meeting
DESCRIPTION:For further details or to book a place visit our Eventbrite page: https://www.eventbrite.com/o/nottingham-schools-trust-19990165449 \n
URL:http://www.nottinghamschoolstrust.org.uk/event/music-network-meeting-6/
END:VEVENT
END:VCALENDAR