BEGIN:VCALENDAR
VERSION:2.0
PRODID:-//Nottingham Schools Trust - ECPv4.6.26//NONSGML v1.0//EN
CALSCALE:GREGORIAN
METHOD:PUBLISH
X-WR-CALNAME:Nottingham Schools Trust
X-ORIGINAL-URL:http://www.nottinghamschoolstrust.org.uk
X-WR-CALDESC:Events for Nottingham Schools Trust
BEGIN:VEVENT
DTSTART;TZID=Europe/London:20210607T154500
DTEND;TZID=Europe/London:20210607T171500
DTSTAMP:20260420T042157
CREATED:20210504T091002Z
LAST-MODIFIED:20210504T091002Z
UID:6455-1623080700-1623086100@www.nottinghamschoolstrust.org.uk
SUMMARY:PE\, School Sport & Physical Activity Network Meeting
DESCRIPTION:For further details or to book a place visit our Eventbrite page: https://www.eventbrite.com/o/nottingham-schools-trust-19990165449 \n
URL:http://www.nottinghamschoolstrust.org.uk/event/pe-school-sport-physical-activity-network-meeting/
END:VEVENT
END:VCALENDAR