BEGIN:VCALENDAR
VERSION:2.0
PRODID:-//Nottingham Schools Trust - ECPv4.6.26//NONSGML v1.0//EN
CALSCALE:GREGORIAN
METHOD:PUBLISH
X-WR-CALNAME:Nottingham Schools Trust
X-ORIGINAL-URL:http://www.nottinghamschoolstrust.org.uk
X-WR-CALDESC:Events for Nottingham Schools Trust
BEGIN:VEVENT
DTSTART;TZID=Europe/London:20210611T083000
DTEND;TZID=Europe/London:20210611T104500
DTSTAMP:20260420T061023
CREATED:20201022T142353Z
LAST-MODIFIED:20201022T142353Z
UID:5384-1623400200-1623408300@www.nottinghamschoolstrust.org.uk
SUMMARY:Transform Head of School\, Deputy & Assistant Headteacher Network - Session 3
DESCRIPTION:To book in please email Emily.Humphreys@nottinghamschoolstrust.org.uk \n
URL:http://www.nottinghamschoolstrust.org.uk/event/transform-head-of-school-deputy-assistant-headteacher-network-session-3/
END:VEVENT
BEGIN:VEVENT
DTSTART;TZID=Europe/London:20210611T130000
DTEND;TZID=Europe/London:20210611T153000
DTSTAMP:20260420T061023
CREATED:20210504T090713Z
LAST-MODIFIED:20210504T090713Z
UID:6449-1623416400-1623425400@www.nottinghamschoolstrust.org.uk
SUMMARY:Assessment Leads Network Meeting
DESCRIPTION:For further details or to book a place visit our Eventbrite page: https://www.eventbrite.com/o/nottingham-schools-trust-19990165449 \n
URL:http://www.nottinghamschoolstrust.org.uk/event/assessment-leads-network-meeting-6/
END:VEVENT
END:VCALENDAR