BEGIN:VCALENDAR
VERSION:2.0
PRODID:-//Nottingham Schools Trust - ECPv4.6.26//NONSGML v1.0//EN
CALSCALE:GREGORIAN
METHOD:PUBLISH
X-WR-CALNAME:Nottingham Schools Trust
X-ORIGINAL-URL:http://www.nottinghamschoolstrust.org.uk
X-WR-CALDESC:Events for Nottingham Schools Trust
BEGIN:VEVENT
DTSTART;TZID=Europe/London:20210630T123000
DTEND;TZID=Europe/London:20210630T160000
DTSTAMP:20260420T025711
CREATED:20201022T112414Z
LAST-MODIFIED:20210309T120353Z
UID:5368-1625056200-1625068800@www.nottinghamschoolstrust.org.uk
SUMMARY:Forging Ahead Programme for Senior Leaders - Session 3
DESCRIPTION:For further details/to book\, follow this link: https://www.eventbrite.com/e/forging-ahead-nst-programme-for-senior-leaders-session-3-tickets-125474374231 \n
URL:http://www.nottinghamschoolstrust.org.uk/event/forging-ahead-programme-for-senior-leaders-session-3/
END:VEVENT
END:VCALENDAR