BEGIN:VCALENDAR
VERSION:2.0
PRODID:-//Nottingham Schools Trust - ECPv4.6.26//NONSGML v1.0//EN
CALSCALE:GREGORIAN
METHOD:PUBLISH
X-WR-CALNAME:Nottingham Schools Trust
X-ORIGINAL-URL:http://www.nottinghamschoolstrust.org.uk
X-WR-CALDESC:Events for Nottingham Schools Trust
BEGIN:VEVENT
DTSTART;TZID=Europe/London:20210702T083000
DTEND;TZID=Europe/London:20210702T123000
DTSTAMP:20260420T025004
CREATED:20210309T120904Z
LAST-MODIFIED:20210309T120904Z
UID:6309-1625214600-1625229000@www.nottinghamschoolstrust.org.uk
SUMMARY:Securing Outstanding Programme - Session 3
DESCRIPTION:For further details contact Emily.humphreys@nottinghamschoolstrust.org.uk \n
URL:http://www.nottinghamschoolstrust.org.uk/event/securing-outstanding-programme-session-3/
END:VEVENT
END:VCALENDAR