BEGIN:VCALENDAR
VERSION:2.0
PRODID:-//Nottingham Schools Trust - ECPv4.6.26//NONSGML v1.0//EN
CALSCALE:GREGORIAN
METHOD:PUBLISH
X-WR-CALNAME:Nottingham Schools Trust
X-ORIGINAL-URL:http://www.nottinghamschoolstrust.org.uk
X-WR-CALDESC:Events for Nottingham Schools Trust
BEGIN:VEVENT
DTSTART;TZID=Europe/London:20210714T130000
DTEND;TZID=Europe/London:20210714T160000
DTSTAMP:20260420T025233
CREATED:20210504T090354Z
LAST-MODIFIED:20210504T090354Z
UID:6441-1626267600-1626278400@www.nottinghamschoolstrust.org.uk
SUMMARY:Early Years Network Meeting
DESCRIPTION:For further details or to book a place visit our Eventbrite page: https://www.eventbrite.com/o/nottingham-schools-trust-19990165449 \n
URL:http://www.nottinghamschoolstrust.org.uk/event/early-years-network-meeting-5/
LOCATION:Nottingham Nursery School & Training Centre\, Denman Street West\, Radford\, Nottingham\, NG7 3AB
END:VEVENT
END:VCALENDAR