BEGIN:VCALENDAR
VERSION:2.0
PRODID:-//Nottingham Schools Trust - ECPv4.6.26//NONSGML v1.0//EN
CALSCALE:GREGORIAN
METHOD:PUBLISH
X-WR-CALNAME:Nottingham Schools Trust
X-ORIGINAL-URL:http://www.nottinghamschoolstrust.org.uk
X-WR-CALDESC:Events for Nottingham Schools Trust
BEGIN:VEVENT
DTSTART;TZID=Europe/London:20211006T080000
DTEND;TZID=Europe/London:20211006T170000
DTSTAMP:20260419T203009
CREATED:20210714T134354Z
LAST-MODIFIED:20210714T134354Z
UID:6812-1633507200-1633539600@www.nottinghamschoolstrust.org.uk
SUMMARY:Local Authority DSL Network Meeting
DESCRIPTION:For further details please visit their website: http://www.nottinghamschools.org.uk/leadership-and-management-support/partnerships/designated-safeguarding-lead-dsl-network \n
URL:http://www.nottinghamschoolstrust.org.uk/event/local-authority-dsl-network-meeting/
END:VEVENT
BEGIN:VEVENT
DTSTART;TZID=Europe/London:20211006T160000
DTEND;TZID=Europe/London:20211006T173000
DTSTAMP:20260419T203009
CREATED:20210901T135440Z
LAST-MODIFIED:20210901T135440Z
UID:6900-1633536000-1633541400@www.nottinghamschoolstrust.org.uk
SUMMARY:Music Network Meeting
DESCRIPTION:For further details or to book\, visit our Eventbrite page here: https://www.eventbrite.com/o/nottingham-schools-trust-19990165449 \n  \n  \n
URL:http://www.nottinghamschoolstrust.org.uk/event/music-network-meeting-7/
LOCATION:Nottingham Nursery School & Training Centre\, Denman Street West\, Radford\, Nottingham\, NG7 3AB
END:VEVENT
END:VCALENDAR