BEGIN:VCALENDAR
VERSION:2.0
PRODID:-//Nottingham Schools Trust - ECPv4.6.26//NONSGML v1.0//EN
CALSCALE:GREGORIAN
METHOD:PUBLISH
X-WR-CALNAME:Nottingham Schools Trust
X-ORIGINAL-URL:http://www.nottinghamschoolstrust.org.uk
X-WR-CALDESC:Events for Nottingham Schools Trust
BEGIN:VEVENT
DTSTART;TZID=Europe/London:20211012T093000
DTEND;TZID=Europe/London:20211012T113000
DTSTAMP:20260419T220652
CREATED:20201201T114422Z
LAST-MODIFIED:20201201T114422Z
UID:5661-1634031000-1634038200@www.nottinghamschoolstrust.org.uk
SUMMARY:NST Performance and Standards Committee Meeting
DESCRIPTION:
URL:http://www.nottinghamschoolstrust.org.uk/event/nst-performance-and-standards-committee-meeting-6/
LOCATION:NST Office
END:VEVENT
BEGIN:VEVENT
DTSTART;TZID=Europe/London:20211012T140000
DTEND;TZID=Europe/London:20211012T160000
DTSTAMP:20260419T220652
CREATED:20210827T105802Z
LAST-MODIFIED:20210827T105802Z
UID:6897-1634047200-1634054400@www.nottinghamschoolstrust.org.uk
SUMMARY:Diversity Network Meeting
DESCRIPTION:For further details or to book visit our Eventbrite page here: https://www.eventbrite.com/o/nottingham-schools-trust-19990165449 \n
URL:http://www.nottinghamschoolstrust.org.uk/event/diversity-network-meeting/
LOCATION:Nottingham Nursery School & Training Centre\, Denman Street West\, Radford\, Nottingham\, NG7 3AB
END:VEVENT
END:VCALENDAR