BEGIN:VCALENDAR
VERSION:2.0
PRODID:-//Nottingham Schools Trust - ECPv4.6.26//NONSGML v1.0//EN
CALSCALE:GREGORIAN
METHOD:PUBLISH
X-WR-CALNAME:Nottingham Schools Trust
X-ORIGINAL-URL:http://www.nottinghamschoolstrust.org.uk
X-WR-CALDESC:Events for Nottingham Schools Trust
BEGIN:VEVENT
DTSTART;TZID=Europe/London:20211104T160000
DTEND;TZID=Europe/London:20211104T173000
DTSTAMP:20260419T190455
CREATED:20210906T083611Z
LAST-MODIFIED:20210906T083611Z
UID:6921-1636041600-1636047000@www.nottinghamschoolstrust.org.uk
SUMMARY:Phonics Network Meeting
DESCRIPTION:Please visit our Eventbrite page for further details/to book: https://www.eventbrite.com/o/nottingham-schools-trust-19990165449 \n  \n  \n
URL:http://www.nottinghamschoolstrust.org.uk/event/phonics-network-meeting-7/
LOCATION:Nottingham Nursery School & Training Centre\, Denman Street West\, Radford\, Nottingham\, NG7 3AB
END:VEVENT
END:VCALENDAR