BEGIN:VCALENDAR
VERSION:2.0
PRODID:-//Nottingham Schools Trust - ECPv4.6.26//NONSGML v1.0//EN
CALSCALE:GREGORIAN
METHOD:PUBLISH
X-WR-CALNAME:Nottingham Schools Trust
X-ORIGINAL-URL:http://www.nottinghamschoolstrust.org.uk
X-WR-CALDESC:Events for Nottingham Schools Trust
BEGIN:VEVENT
DTSTART;TZID=Europe/London:20211105T093000
DTEND;TZID=Europe/London:20211105T114500
DTSTAMP:20260419T203052
CREATED:20210915T131353Z
LAST-MODIFIED:20210915T131353Z
UID:6964-1636104600-1636112700@www.nottinghamschoolstrust.org.uk
SUMMARY:Transform Deputy Heads Network - Session 1
DESCRIPTION:Further details and a booking link can be found here: https://www.transformapplied.co.uk/event-calendar/deputy-heads-network-1 \n
URL:http://www.nottinghamschoolstrust.org.uk/event/transform-deputy-heads-network-session-1/
END:VEVENT
BEGIN:VEVENT
DTSTART;TZID=Europe/London:20211105T133000
DTEND;TZID=Europe/London:20211105T153000
DTSTAMP:20260419T203052
CREATED:20210827T105144Z
LAST-MODIFIED:20210827T105205Z
UID:6885-1636119000-1636126200@www.nottinghamschoolstrust.org.uk
SUMMARY:Assessment Leads Network Meeting
DESCRIPTION:For further details or to book visit our Eventbrite page here: https://www.eventbrite.com/o/nottingham-schools-trust-19990165449 \n
URL:http://www.nottinghamschoolstrust.org.uk/event/assessment-leads-network-meeting-7/
END:VEVENT
BEGIN:VEVENT
DTSTART;TZID=Europe/London:20211105T143000
DTEND;TZID=Europe/London:20211105T163000
DTSTAMP:20260419T203052
CREATED:20210827T105605Z
LAST-MODIFIED:20210827T105605Z
UID:6893-1636122600-1636129800@www.nottinghamschoolstrust.org.uk
SUMMARY:Design & Technology Network Meeting
DESCRIPTION:For further details or to book visit our Eventbrite page here: https://www.eventbrite.com/o/nottingham-schools-trust-19990165449 \n
URL:http://www.nottinghamschoolstrust.org.uk/event/design-technology-network-meeting-5/
LOCATION:Nottingham Nursery School & Training Centre\, Denman Street West\, Radford\, Nottingham\, NG7 3AB
END:VEVENT
END:VCALENDAR