BEGIN:VCALENDAR
VERSION:2.0
PRODID:-//Nottingham Schools Trust - ECPv4.6.26//NONSGML v1.0//EN
CALSCALE:GREGORIAN
METHOD:PUBLISH
X-WR-CALNAME:Nottingham Schools Trust
X-ORIGINAL-URL:http://www.nottinghamschoolstrust.org.uk
X-WR-CALDESC:Events for Nottingham Schools Trust
BEGIN:VEVENT
DTSTART;TZID=Europe/London:20211109T133000
DTEND;TZID=Europe/London:20211109T170000
DTSTAMP:20260419T190620
CREATED:20210915T133951Z
LAST-MODIFIED:20210915T133951Z
UID:6988-1636464600-1636477200@www.nottinghamschoolstrust.org.uk
SUMMARY:Transform ECT 2 Programme - Session 2
DESCRIPTION:For further information or to book\, visit: ECT 2 Provision (1/6) | School development & CPD for teachers (transformapplied.co.uk) \n
URL:http://www.nottinghamschoolstrust.org.uk/event/transform-ect-2-programme-session-2/
END:VEVENT
END:VCALENDAR