BEGIN:VCALENDAR
VERSION:2.0
PRODID:-//Nottingham Schools Trust - ECPv4.6.26//NONSGML v1.0//EN
CALSCALE:GREGORIAN
METHOD:PUBLISH
X-WR-CALNAME:Nottingham Schools Trust
X-ORIGINAL-URL:http://www.nottinghamschoolstrust.org.uk
X-WR-CALDESC:Events for Nottingham Schools Trust
BEGIN:VEVENT
DTSTART;TZID=Europe/London:20220126T130000
DTEND;TZID=Europe/London:20220126T143000
DTSTAMP:20260419T190525
CREATED:20210915T130952Z
LAST-MODIFIED:20210915T130952Z
UID:6958-1643202000-1643207400@www.nottinghamschoolstrust.org.uk
SUMMARY:Transform Year 6 Network - Session 2
DESCRIPTION:For more details and to book a place visit the Transform website: https://www.transformapplied.co.uk/event-calendar/year-6-network-plus-trust-focus-1 \n
URL:http://www.nottinghamschoolstrust.org.uk/event/transform-year-6-network-session-2-3/
END:VEVENT
END:VCALENDAR