BEGIN:VCALENDAR
VERSION:2.0
PRODID:-//Nottingham Schools Trust - ECPv4.6.26//NONSGML v1.0//EN
CALSCALE:GREGORIAN
METHOD:PUBLISH
X-WR-CALNAME:Nottingham Schools Trust
X-ORIGINAL-URL:http://www.nottinghamschoolstrust.org.uk
X-WR-CALDESC:Events for Nottingham Schools Trust
BEGIN:VEVENT
DTSTART;TZID=Europe/London:20220203T133000
DTEND;TZID=Europe/London:20220203T153000
DTSTAMP:20260419T190622
CREATED:20210520T100304Z
LAST-MODIFIED:20210520T100304Z
UID:6560-1643895000-1643902200@www.nottinghamschoolstrust.org.uk
SUMMARY:Advanced SENCO Pathway Training - Session 6
DESCRIPTION:
URL:http://www.nottinghamschoolstrust.org.uk/event/advanced-senco-pathway-training-session-6/
LOCATION:Nottingham Nursery School & Training Centre\, Denman Street West\, Radford\, Nottingham\, NG7 3AB
END:VEVENT
END:VCALENDAR