BEGIN:VCALENDAR
VERSION:2.0
PRODID:-//Nottingham Schools Trust - ECPv4.6.26//NONSGML v1.0//EN
CALSCALE:GREGORIAN
METHOD:PUBLISH
X-WR-CALNAME:Nottingham Schools Trust
X-ORIGINAL-URL:http://www.nottinghamschoolstrust.org.uk
X-WR-CALDESC:Events for Nottingham Schools Trust
BEGIN:VEVENT
DTSTART;TZID=Europe/London:20231116T093000
DTEND;TZID=Europe/London:20231116T110000
DTSTAMP:20260422T183526
CREATED:20230707T092313Z
LAST-MODIFIED:20230707T092313Z
UID:9220-1700127000-1700132400@www.nottinghamschoolstrust.org.uk
SUMMARY:PREVENT Awareness Training
DESCRIPTION:To book: PREVENT Awareness Training Tickets\, Thu 16 Nov 2023 at 09:30 | Eventbrite \n
URL:http://www.nottinghamschoolstrust.org.uk/event/prevent-awareness-training/
END:VEVENT
END:VCALENDAR