BEGIN:VCALENDAR
VERSION:2.0
PRODID:-//Nottingham Schools Trust - ECPv4.6.26//NONSGML v1.0//EN
CALSCALE:GREGORIAN
METHOD:PUBLISH
X-WR-CALNAME:Nottingham Schools Trust
X-ORIGINAL-URL:http://www.nottinghamschoolstrust.org.uk
X-WR-CALDESC:Events for Nottingham Schools Trust
BEGIN:VEVENT
DTSTART;TZID=Europe/London:20240308T130000
DTEND;TZID=Europe/London:20240308T153000
DTSTAMP:20260423T112503
CREATED:20230706T123402Z
LAST-MODIFIED:20240122T122531Z
UID:9072-1709902800-1709911800@www.nottinghamschoolstrust.org.uk
SUMMARY:Curriculum Leads Network
DESCRIPTION:Meetings will be available to book via our Eventbrite page at the beginning of each term: https://www.eventbrite.com/o/nottingham-schools-trust-19990165449 \n
URL:http://www.nottinghamschoolstrust.org.uk/event/curriculum-leads-network-2/
END:VEVENT
END:VCALENDAR