BEGIN:VCALENDAR
VERSION:2.0
PRODID:-//Nottingham Schools Trust - ECPv4.6.26//NONSGML v1.0//EN
CALSCALE:GREGORIAN
METHOD:PUBLISH
X-WR-CALNAME:Nottingham Schools Trust
X-ORIGINAL-URL:http://www.nottinghamschoolstrust.org.uk
X-WR-CALDESC:Events for Nottingham Schools Trust
BEGIN:VEVENT
DTSTART;TZID=Europe/London:20240503T131500
DTEND;TZID=Europe/London:20240503T160000
DTSTAMP:20260421T152339
CREATED:20230721T114003Z
LAST-MODIFIED:20240122T121744Z
UID:9294-1714742100-1714752000@www.nottinghamschoolstrust.org.uk
SUMMARY:Year 5 Moderation Workshop
DESCRIPTION:To book a place please visit: Nottm City Moderation Workshop Y5 | Flying High (flyinghighpartnership.co.uk) \n
URL:http://www.nottinghamschoolstrust.org.uk/event/moderation-workshop-3/
END:VEVENT
END:VCALENDAR