BEGIN:VCALENDAR
VERSION:2.0
PRODID:-//Nottingham Schools Trust - ECPv4.6.26//NONSGML v1.0//EN
CALSCALE:GREGORIAN
METHOD:PUBLISH
X-WR-CALNAME:Nottingham Schools Trust
X-ORIGINAL-URL:http://www.nottinghamschoolstrust.org.uk
X-WR-CALDESC:Events for Nottingham Schools Trust
BEGIN:VEVENT
DTSTART;TZID=Europe/London:20240521T093000
DTEND;TZID=Europe/London:20240521T120000
DTSTAMP:20260421T135550
CREATED:20230707T091347Z
LAST-MODIFIED:20230707T091347Z
UID:9212-1716283800-1716292800@www.nottinghamschoolstrust.org.uk
SUMMARY:DSL Network Meeting
DESCRIPTION:To book: DSL Network – May 2024 Registration\, Tue 21 May 2024 at 09:30 | Eventbrite \n
URL:http://www.nottinghamschoolstrust.org.uk/event/dsl-network-meeting-12/
END:VEVENT
BEGIN:VEVENT
DTSTART;TZID=Europe/London:20240521T133000
DTEND;TZID=Europe/London:20240521T150000
DTSTAMP:20260421T135550
CREATED:20230706T130332Z
LAST-MODIFIED:20230706T130332Z
UID:9098-1716298200-1716303600@www.nottinghamschoolstrust.org.uk
SUMMARY:Phonics Network
DESCRIPTION:Meetings will be available to book via our Eventbrite page at the beginning of each term: https://www.eventbrite.com/o/nottingham-schools-trust-19990165449 \n  \n
URL:http://www.nottinghamschoolstrust.org.uk/event/phonics-network-9/
END:VEVENT
END:VCALENDAR