BEGIN:VCALENDAR
VERSION:2.0
PRODID:-//Nottingham Schools Trust - ECPv4.6.26//NONSGML v1.0//EN
CALSCALE:GREGORIAN
METHOD:PUBLISH
X-WR-CALNAME:Nottingham Schools Trust
X-ORIGINAL-URL:http://www.nottinghamschoolstrust.org.uk
X-WR-CALDESC:Events for Nottingham Schools Trust
BEGIN:VEVENT
DTSTART;TZID=Europe/London:20240606T131500
DTEND;TZID=Europe/London:20240606T160000
DTSTAMP:20260421T122950
CREATED:20230721T113022Z
LAST-MODIFIED:20230721T113022Z
UID:9274-1717679700-1717689600@www.nottinghamschoolstrust.org.uk
SUMMARY:Maths Network Meeting
DESCRIPTION:To book a place please visit the Local Authority’s Eventbrite page here: Primary Teaching and Learning Events | Eventbrite \n
URL:http://www.nottinghamschoolstrust.org.uk/event/maths-network-meeting-11/
END:VEVENT
END:VCALENDAR