BEGIN:VCALENDAR
VERSION:2.0
PRODID:-//Nottingham Schools Trust - ECPv4.6.26//NONSGML v1.0//EN
CALSCALE:GREGORIAN
METHOD:PUBLISH
X-WR-CALNAME:Nottingham Schools Trust
X-ORIGINAL-URL:http://www.nottinghamschoolstrust.org.uk
X-WR-CALDESC:Events for Nottingham Schools Trust
BEGIN:VEVENT
DTSTART;TZID=Europe/London:20240619T090000
DTEND;TZID=Europe/London:20240619T113000
DTSTAMP:20260421T135617
CREATED:20230630T133725Z
LAST-MODIFIED:20230630T133725Z
UID:9052-1718787600-1718796600@www.nottinghamschoolstrust.org.uk
SUMMARY:F2 Agreement Trialling (online via Teams)
DESCRIPTION:To book a place: Early Years Course Booking – Course Details – Nottingham City Council \n
URL:http://www.nottinghamschoolstrust.org.uk/event/f2-agreement-trialling-online-via-teams-5/
END:VEVENT
BEGIN:VEVENT
DTSTART;TZID=Europe/London:20240619T130000
DTEND;TZID=Europe/London:20240619T153000
DTSTAMP:20260421T135617
CREATED:20230630T133818Z
LAST-MODIFIED:20230630T133818Z
UID:9054-1718802000-1718811000@www.nottinghamschoolstrust.org.uk
SUMMARY:F2 Agreement Trialling (online via Teams)
DESCRIPTION:To book a place: Early Years Course Booking – Course Details – Nottingham City Council \n
URL:http://www.nottinghamschoolstrust.org.uk/event/f2-agreement-trialling-online-via-teams-6/
END:VEVENT
END:VCALENDAR