BEGIN:VCALENDAR
VERSION:2.0
PRODID:-//Nottingham Schools Trust - ECPv4.6.26//NONSGML v1.0//EN
CALSCALE:GREGORIAN
METHOD:PUBLISH
X-WR-CALNAME:Nottingham Schools Trust
X-ORIGINAL-URL:http://www.nottinghamschoolstrust.org.uk
X-WR-CALDESC:Events for Nottingham Schools Trust
BEGIN:VEVENT
DTSTART;TZID=Europe/London:20240716T130000
DTEND;TZID=Europe/London:20240716T150000
DTSTAMP:20260419T152425
CREATED:20240507T132224Z
LAST-MODIFIED:20240507T132224Z
UID:9784-1721134800-1721142000@www.nottinghamschoolstrust.org.uk
SUMMARY:Diversity Network
DESCRIPTION:Places can be booked via the NST’s Eventbrite page here: https://www.eventbrite.com/o/nottingham-schools-trust-19990165449 \n
URL:http://www.nottinghamschoolstrust.org.uk/event/diversity-network-5/
END:VEVENT
BEGIN:VEVENT
DTSTART;TZID=Europe/London:20240716T160000
DTEND;TZID=Europe/London:20240716T173000
DTSTAMP:20260419T152425
CREATED:20230706T131243Z
LAST-MODIFIED:20240507T132258Z
UID:9110-1721145600-1721151000@www.nottinghamschoolstrust.org.uk
SUMMARY:ICT Network
DESCRIPTION:Meetings will be available to book via our Eventbrite page at the beginning of each term: https://www.eventbrite.com/o/nottingham-schools-trust-19990165449 \n
URL:http://www.nottinghamschoolstrust.org.uk/event/ict-network-5/
END:VEVENT
END:VCALENDAR