BEGIN:VCALENDAR
VERSION:2.0
PRODID:-//Nottingham Schools Trust - ECPv4.6.26//NONSGML v1.0//EN
CALSCALE:GREGORIAN
METHOD:PUBLISH
X-WR-CALNAME:Nottingham Schools Trust
X-ORIGINAL-URL:http://www.nottinghamschoolstrust.org.uk
X-WR-CALDESC:Events for Nottingham Schools Trust
BEGIN:VEVENT
DTSTART;TZID=Europe/London:20240719T130000
DTEND;TZID=Europe/London:20240719T153000
DTSTAMP:20260419T150543
CREATED:20230706T123222Z
LAST-MODIFIED:20240507T131452Z
UID:9068-1721394000-1721403000@www.nottinghamschoolstrust.org.uk
SUMMARY:Assessment Reporting Workshop
DESCRIPTION:Meetings will be available to book via our Eventbrite page at the beginning of each term: https://www.eventbrite.com/o/nottingham-schools-trust-19990165449 \n
URL:http://www.nottinghamschoolstrust.org.uk/event/assessment-leads-network-8/
END:VEVENT
END:VCALENDAR