BEGIN:VCALENDAR
VERSION:2.0
PRODID:-//Nottingham Schools Trust - ECPv4.6.26//NONSGML v1.0//EN
CALSCALE:GREGORIAN
METHOD:PUBLISH
X-WR-CALNAME:Nottingham Schools Trust
X-ORIGINAL-URL:http://www.nottinghamschoolstrust.org.uk
X-WR-CALDESC:Events for Nottingham Schools Trust
BEGIN:VEVENT
DTSTART;TZID=Europe/London:20240910T084500
DTEND;TZID=Europe/London:20240910T123000
DTSTAMP:20260421T103506
CREATED:20240819T110215Z
LAST-MODIFIED:20240819T110215Z
UID:10196-1725957900-1725971400@www.nottinghamschoolstrust.org.uk
SUMMARY:Safeguarding - Train the Trainer
DESCRIPTION:To book: Train the Trainer – Events – Universe \n
URL:http://www.nottinghamschoolstrust.org.uk/event/safeguarding-train-the-trainer/
LOCATION:Castle Cavendish
END:VEVENT
END:VCALENDAR