BEGIN:VCALENDAR
VERSION:2.0
PRODID:-//Nottingham Schools Trust - ECPv4.6.26//NONSGML v1.0//EN
CALSCALE:GREGORIAN
METHOD:PUBLISH
X-WR-CALNAME:Nottingham Schools Trust
X-ORIGINAL-URL:http://www.nottinghamschoolstrust.org.uk
X-WR-CALDESC:Events for Nottingham Schools Trust
BEGIN:VEVENT
DTSTART;TZID=Europe/London:20241009T140000
DTEND;TZID=Europe/London:20241009T160000
DTSTAMP:20260420T000244
CREATED:20240815T121129Z
LAST-MODIFIED:20240815T121129Z
UID:10011-1728482400-1728489600@www.nottinghamschoolstrust.org.uk
SUMMARY:Music Network Meeting
DESCRIPTION:For further details or to book: https://www.universe.com/events/music-network-meeting-tickets-LFNKR3 \n
URL:http://www.nottinghamschoolstrust.org.uk/event/music-network-meeting-8/
LOCATION:Nottingham Nursery School & Training Centre\, Denman Street West\, Radford\, Nottingham\, NG7 3AB
END:VEVENT
END:VCALENDAR