BEGIN:VCALENDAR
VERSION:2.0
PRODID:-//Nottingham Schools Trust - ECPv4.6.26//NONSGML v1.0//EN
CALSCALE:GREGORIAN
METHOD:PUBLISH
X-WR-CALNAME:Nottingham Schools Trust
X-ORIGINAL-URL:http://www.nottinghamschoolstrust.org.uk
X-WR-CALDESC:Events for Nottingham Schools Trust
BEGIN:VEVENT
DTSTART;TZID=Europe/London:20241015T093000
DTEND;TZID=Europe/London:20241015T120000
DTSTAMP:20260421T091501
CREATED:20240819T110532Z
LAST-MODIFIED:20240819T110532Z
UID:10200-1728984600-1728993600@www.nottinghamschoolstrust.org.uk
SUMMARY:DSL Network
DESCRIPTION:To book: Designated Safeguarding Lead Network- Tuesday 15th October 2024 – Events – Universe \n
URL:http://www.nottinghamschoolstrust.org.uk/event/dsl-network-3/
LOCATION:The Indian Community Centre\, NG5 1QZ
END:VEVENT
END:VCALENDAR