BEGIN:VCALENDAR
VERSION:2.0
PRODID:-//Nottingham Schools Trust - ECPv4.6.26//NONSGML v1.0//EN
CALSCALE:GREGORIAN
METHOD:PUBLISH
X-WR-CALNAME:Nottingham Schools Trust
X-ORIGINAL-URL:http://www.nottinghamschoolstrust.org.uk
X-WR-CALDESC:Events for Nottingham Schools Trust
BEGIN:VEVENT
DTSTART;TZID=Europe/London:20241106T090000
DTEND;TZID=Europe/London:20241106T113000
DTSTAMP:20260420T013557
CREATED:20240819T093107Z
LAST-MODIFIED:20240819T093107Z
UID:10113-1730883600-1730892600@www.nottinghamschoolstrust.org.uk
SUMMARY:F1 Agreement Trialling - Online Session
DESCRIPTION:Topic – Personal\, Social and Emotional Development\, and Communication and Language \nTo book: Early Years Course Booking – Course Details – Nottingham City Council \n
URL:http://www.nottinghamschoolstrust.org.uk/event/f1-agreement-trialling-online-session/
END:VEVENT
BEGIN:VEVENT
DTSTART;TZID=Europe/London:20241106T130000
DTEND;TZID=Europe/London:20241106T153000
DTSTAMP:20260420T013557
CREATED:20240819T093220Z
LAST-MODIFIED:20240819T093220Z
UID:10115-1730898000-1730907000@www.nottinghamschoolstrust.org.uk
SUMMARY:F1 Agreement Trialling - Online Session
DESCRIPTION:Topic – Personal\, Social and Emotional Development\, and Communication and Language \nTo book: Early Years Course Booking – Course Details – Nottingham City Council \n
URL:http://www.nottinghamschoolstrust.org.uk/event/f1-agreement-trialling-online-session-2/
END:VEVENT
END:VCALENDAR