BEGIN:VCALENDAR
VERSION:2.0
PRODID:-//Nottingham Schools Trust - ECPv4.6.26//NONSGML v1.0//EN
CALSCALE:GREGORIAN
METHOD:PUBLISH
X-WR-CALNAME:Nottingham Schools Trust
X-ORIGINAL-URL:http://www.nottinghamschoolstrust.org.uk
X-WR-CALDESC:Events for Nottingham Schools Trust
BEGIN:VEVENT
DTSTART;TZID=Europe/London:20241111T140000
DTEND;TZID=Europe/London:20241111T160000
DTSTAMP:20260420T014538
CREATED:20240815T122410Z
LAST-MODIFIED:20240815T122410Z
UID:10023-1731333600-1731340800@www.nottinghamschoolstrust.org.uk
SUMMARY:Design and Technology Network
DESCRIPTION:For further details or to book: https://www.universe.com/events/design-technology-network-meeting-tickets-F5R396 \n
URL:http://www.nottinghamschoolstrust.org.uk/event/design-and-technology-network-7/
LOCATION:Nottingham Nursery School & Training Centre\, Denman Street West\, Radford\, Nottingham\, NG7 3AB
END:VEVENT
END:VCALENDAR