BEGIN:VCALENDAR
VERSION:2.0
PRODID:-//Nottingham Schools Trust - ECPv4.6.26//NONSGML v1.0//EN
CALSCALE:GREGORIAN
METHOD:PUBLISH
X-WR-CALNAME:Nottingham Schools Trust
X-ORIGINAL-URL:http://www.nottinghamschoolstrust.org.uk
X-WR-CALDESC:Events for Nottingham Schools Trust
BEGIN:VEVENT
DTSTART;TZID=Europe/London:20241112T093000
DTEND;TZID=Europe/London:20241112T110000
DTSTAMP:20260420T013307
CREATED:20240819T112645Z
LAST-MODIFIED:20240819T112645Z
UID:10228-1731403800-1731409200@www.nottinghamschoolstrust.org.uk
SUMMARY:What makes a good E-MARF? (Online Session)
DESCRIPTION:To book: What Makes a Good MARF? – Events – Universe \n
URL:http://www.nottinghamschoolstrust.org.uk/event/what-makes-a-good-e-marf-online-session-2/
END:VEVENT
END:VCALENDAR