BEGIN:VCALENDAR
VERSION:2.0
PRODID:-//Nottingham Schools Trust - ECPv4.6.26//NONSGML v1.0//EN
CALSCALE:GREGORIAN
METHOD:PUBLISH
X-WR-CALNAME:Nottingham Schools Trust
X-ORIGINAL-URL:http://www.nottinghamschoolstrust.org.uk
X-WR-CALDESC:Events for Nottingham Schools Trust
BEGIN:VEVENT
DTSTART;TZID=Europe/London:20241121T093000
DTEND;TZID=Europe/London:20241121T120000
DTSTAMP:20260420T013206
CREATED:20240819T111622Z
LAST-MODIFIED:20240819T111622Z
UID:10214-1732181400-1732190400@www.nottinghamschoolstrust.org.uk
SUMMARY:PREVENT Awareness Training
DESCRIPTION:To book: PREVENT Awareness Training – Events – Universe \n
URL:http://www.nottinghamschoolstrust.org.uk/event/prevent-awareness-training-4/
LOCATION:Byron House\, Maid Marian Way\, Nottingham\, NG1 6HS
END:VEVENT
END:VCALENDAR