BEGIN:VCALENDAR
VERSION:2.0
PRODID:-//Nottingham Schools Trust - ECPv4.6.26//NONSGML v1.0//EN
CALSCALE:GREGORIAN
METHOD:PUBLISH
X-WR-CALNAME:Nottingham Schools Trust
X-ORIGINAL-URL:http://www.nottinghamschoolstrust.org.uk
X-WR-CALDESC:Events for Nottingham Schools Trust
BEGIN:VEVENT
DTSTART;TZID=Europe/London:20241129T093000
DTEND;TZID=Europe/London:20241129T113000
DTSTAMP:20260420T013205
CREATED:20240819T123245Z
LAST-MODIFIED:20240819T123245Z
UID:10261-1732872600-1732879800@www.nottinghamschoolstrust.org.uk
SUMMARY:NST Full Directors Meeting
DESCRIPTION:
URL:http://www.nottinghamschoolstrust.org.uk/event/nst-full-directors-meeting-12/
LOCATION:Nottingham Nursery School & Training Centre\, Denman Street West\, Radford\, Nottingham\, NG7 3AB
END:VEVENT
END:VCALENDAR